BEGIN:VCALENDAR
VERSION:2.0
PRODID:-//ARC Solutions GmbH - ECPv6.15.20//NONSGML v1.0//EN
CALSCALE:GREGORIAN
METHOD:PUBLISH
X-WR-CALNAME:ARC Solutions GmbH
X-ORIGINAL-URL:https://www.arcsolutions.de
X-WR-CALDESC:Veranstaltungen für ARC Solutions GmbH
REFRESH-INTERVAL;VALUE=DURATION:PT1H
X-Robots-Tag:noindex
X-PUBLISHED-TTL:PT1H
BEGIN:VTIMEZONE
TZID:UTC
BEGIN:STANDARD
TZOFFSETFROM:+0000
TZOFFSETTO:+0000
TZNAME:UTC
DTSTART:20190101T000000
END:STANDARD
END:VTIMEZONE
BEGIN:VEVENT
DTSTART;TZID=UTC:20201203T150000
DTEND;TZID=UTC:20201203T160000
DTSTAMP:20260421T122653
CREATED:20201020T063730Z
LAST-MODIFIED:20201110T074930Z
UID:2954-1607007600-1607011200@www.arcsolutions.de
SUMMARY:Teamcenter SPRECHSTUNDE zum Buch "Stücklistenmanagement mit Teamcenter"
DESCRIPTION:
URL:https://www.arcsolutions.de/event/teamcenter-sprechstunde-zum-buch-stuecklistenmanagement-mit-teamcenter/
LOCATION:Online Meeting
END:VEVENT
END:VCALENDAR