BEGIN:VCALENDAR
VERSION:2.0
PRODID:-//ARC Solutions GmbH - ECPv6.15.20//NONSGML v1.0//EN
CALSCALE:GREGORIAN
METHOD:PUBLISH
X-ORIGINAL-URL:https://www.arcsolutions.de
X-WR-CALDESC:Veranstaltungen für ARC Solutions GmbH
REFRESH-INTERVAL;VALUE=DURATION:PT1H
X-Robots-Tag:noindex
X-PUBLISHED-TTL:PT1H
BEGIN:VTIMEZONE
TZID:UTC
BEGIN:STANDARD
TZOFFSETFROM:+0000
TZOFFSETTO:+0000
TZNAME:UTC
DTSTART:20190101T000000
END:STANDARD
END:VTIMEZONE
BEGIN:VEVENT
DTSTART;TZID=UTC:20200623T150000
DTEND;TZID=UTC:20200623T160000
DTSTAMP:20260421T230107
CREATED:20200622T154310Z
LAST-MODIFIED:20200622T163401Z
UID:2778-1592924400-1592928000@www.arcsolutions.de
SUMMARY:PLM Roundtable #1
DESCRIPTION:Das heutige Thema: \nKurzvorstellung des Buches PLM mit TC: An wen richtet sich das Buch? Welchen Nutzen versprechen sich die Autoren für die Anwender oder Entscheider? Wie sollte man das Buch benutzen? Wie haben wir versucht den Spagat zwischen der Komplexität der Software und dem Hintergrundwissen zu schaffen? \n  \nNach der Anmeldung erhalten Sie von uns einen separaten Einladungslink.
URL:https://www.arcsolutions.de/event/plmrt1/
LOCATION:Online Meeting
ORGANIZER;CN="ARC Solutions GmbH":MAILTO:support@arcsolutions.de
END:VEVENT
END:VCALENDAR