BEGIN:VCALENDAR
VERSION:2.0
PRODID:-//ARC Solutions GmbH - ECPv6.15.20//NONSGML v1.0//EN
CALSCALE:GREGORIAN
METHOD:PUBLISH
X-WR-CALNAME:ARC Solutions GmbH
X-ORIGINAL-URL:https://www.arcsolutions.de
X-WR-CALDESC:Veranstaltungen für ARC Solutions GmbH
REFRESH-INTERVAL;VALUE=DURATION:PT1H
X-Robots-Tag:noindex
X-PUBLISHED-TTL:PT1H
BEGIN:VTIMEZONE
TZID:UTC
BEGIN:STANDARD
TZOFFSETFROM:+0000
TZOFFSETTO:+0000
TZNAME:UTC
DTSTART:20180101T000000
END:STANDARD
END:VTIMEZONE
BEGIN:VEVENT
DTSTART;VALUE=DATE:20190506
DTEND;VALUE=DATE:20190511
DTSTAMP:20260423T035039
CREATED:20190409T055620Z
LAST-MODIFIED:20190510T051828Z
UID:800-1557100800-1557532799@www.arcsolutions.de
SUMMARY:NX Basisschulung
DESCRIPTION:NX Basiskurs (ausgebucht)\nOrt: Chemnitz \nTermin: KW 19 (06.-10.05.2019) \nTeilnehmerzahl ist auf 6 beschränkt (nur noch wenige Plätze verfügbar!) \nVermittelt die Grundlagen für die Benutzeroberfläche\, Bedienung und Funktionen von NX. \nThemen: \n\nKennenlernen der NX Systemphilosophie\nArbeitsoberfläche von NX\, Grundeinstellungen\nAnlegen anwenderspezifischer Benutzerrollen\nErzeugen und Bearbeiten von Skizzen\nReferenzelemente Koordinatensysteme\, Achsen und Ebenen\nKonstruieren und Ändern von Volumenmodellen\nLayer und Reference Sets\nErzeugen und Ändern von Baugruppen\nPositionierung mit Baugruppenbedingungen\nGrundlagen der Zeichnungserstellung\nMessen und Analysieren\nPraxisbezogene Übungen\n\nBei Interesse können Sie sich gern über das Kontaktformular unten\,  sales@arcsolutions oder 0371/52319-0 anmelden. Preis auf Anfrage.
URL:https://www.arcsolutions.de/event/nx-basisschulung-2/
LOCATION:ARC Solutions GmbH\, Annaberger Straße 73\, Chemnitz\, Sachsen\, 09111
ORGANIZER;CN="ARC Solutions GmbH":MAILTO:support@arcsolutions.de
END:VEVENT
BEGIN:VEVENT
DTSTART;VALUE=DATE:20190528
DTEND;VALUE=DATE:20190530
DTSTAMP:20260423T035039
CREATED:20190521T052315Z
LAST-MODIFIED:20210401T054246Z
UID:909-1559001600-1559174399@www.arcsolutions.de
SUMMARY:Siemens PLM Connection Deutschland
DESCRIPTION:Wir freuen uns auf Best Practice Discussion u.a. zu folgenden Themen \n\nTrainieren Ihrer Anwender in NX\, Teamcenter und Vis\nMethoden und Prozesse mit Teamcenter\, NX und MultiCAD (NX\, CATIA\, Creo\, Inventor\, AutoCAD\, …)\nNX CAM und Resource Management mit Teamcenter/MRL\nStücklisten\, Produktkonfiguration und Variantenmanagement\nVR/AR im Produktentwicklungsprozess\nCustomizing und Service Automation Teamcenter und NX\n\nAuch dieses gibt a eine Tombola und die Möglichkeit\, unser Teamcenterbuch zu gewinnen (https://bit.ly/2JRlUEg). \nZur Diskussion Ihrer konkreten Anforderungen können Sie gern einen Termin bei uns am Stand 09 vereinbaren über das Kontaktformular unten\,  sales@arcsolutions oder 0371/52319-0. \nBitte melden Sie sich auch direkt beim Veranstalter an: https://www.plm-benutzergruppe.de/registrierung/ \nWir freuen uns auf zahlreiche Besucher und Fachgespräche.
URL:https://www.arcsolutions.de/event/siemens-plm-connection-deutschland-28-29-mai-2019/
LOCATION:Lufthansa Training & Conference Center Seeheim\, Lufthansaring1\, Seeheim-Jugenheim\, 64342
END:VEVENT
END:VCALENDAR