BEGIN:VCALENDAR
VERSION:2.0
PRODID:-//ARC Solutions GmbH - ECPv6.15.20//NONSGML v1.0//EN
CALSCALE:GREGORIAN
METHOD:PUBLISH
X-ORIGINAL-URL:https://www.arcsolutions.de
X-WR-CALDESC:Veranstaltungen für ARC Solutions GmbH
REFRESH-INTERVAL;VALUE=DURATION:PT1H
X-Robots-Tag:noindex
X-PUBLISHED-TTL:PT1H
BEGIN:VTIMEZONE
TZID:UTC
BEGIN:STANDARD
TZOFFSETFROM:+0000
TZOFFSETTO:+0000
TZNAME:UTC
DTSTART:20180101T000000
END:STANDARD
END:VTIMEZONE
BEGIN:VEVENT
DTSTART;VALUE=DATE:20190408
DTEND;VALUE=DATE:20190413
DTSTAMP:20260423T055032
CREATED:20190315T081524Z
LAST-MODIFIED:20190315T081524Z
UID:731-1554681600-1555113599@www.arcsolutions.de
SUMMARY:NX Basisschulung
DESCRIPTION:NX Basiskurs\nOrt: Chemnitz \nTermin: KW 15 (8.-12.4.2019) \nTeilnehmerzahl ist auf 6 beschränkt (nur noch wenige Plätze verfügbar!) \nVermittelt die Grundlagen für die Benutzeroberfläche\, Bedienung und Funktionen von NX. \nThemen: \n\nKennenlernen der NX Systemphilosophie\nArbeitsoberfläche von NX\, Grundeinstellungen\nAnlegen anwenderspezifischer Benutzerrollen\nErzeugen und Bearbeiten von Skizzen\nReferenzelemente Koordinatensysteme\, Achsen und Ebenen\nKonstruieren und Ändern von Volumenmodellen\nLayer und Reference Sets\nErzeugen und Ändern von Baugruppen\nPositionierung mit Baugruppenbedingungen\nGrundlagen der Zeichnungserstellung\nMessen und Analysieren\nPraxisbezogene Übungen\n\nBei Interesse können Sie sich gern über das Kontaktformular unten\,  sales@arcsolutions oder 0371/52319-0 anmelden.
URL:https://www.arcsolutions.de/event/nx-basisschulung/
LOCATION:ARC Solutions GmbH\, Annaberger Straße 73\, Chemnitz\, Sachsen\, 09111
END:VEVENT
END:VCALENDAR