BEGIN:VCALENDAR
VERSION:2.0
PRODID:-//ARC Solutions GmbH - ECPv6.15.20//NONSGML v1.0//EN
CALSCALE:GREGORIAN
METHOD:PUBLISH
X-ORIGINAL-URL:https://www.arcsolutions.de
X-WR-CALDESC:Veranstaltungen für ARC Solutions GmbH
REFRESH-INTERVAL;VALUE=DURATION:PT1H
X-Robots-Tag:noindex
X-PUBLISHED-TTL:PT1H
BEGIN:VTIMEZONE
TZID:UTC
BEGIN:STANDARD
TZOFFSETFROM:+0000
TZOFFSETTO:+0000
TZNAME:UTC
DTSTART:20180101T000000
END:STANDARD
END:VTIMEZONE
BEGIN:VEVENT
DTSTART;VALUE=DATE:20190205
DTEND;VALUE=DATE:20190209
DTSTAMP:20260423T093805
CREATED:20181128T090211Z
LAST-MODIFIED:20190118T091918Z
UID:466-1549324800-1549670399@www.arcsolutions.de
SUMMARY:intec 2019 - Sonderschau "Additiv + Hybrid – Neue Fertigungstechnologien im Einsatz"
DESCRIPTION:Der Messeverbund von Intec und Z zeigt 2019 in seiner Sonderschau in Hallo 5\, Stand SO (neben B11)\, wie sich in der Kombination klassischer Fertigungsverfahren mit neuartigen Technologien die Grenzen herkömmlicher Prozesse überwinden lassen. Auf einer Sonderfläche werden die ausgestellten Exponate gemeinsam mit dem Fachforum zum lebendigen Anziehungspunkt: hier bietet die Messe Raum für die Darstellung konkreter Anwendungsbeispiele ebenso wie für die Diskussion zukunftsfähiger Ideen und Forschungsansätze. \nARC Solutions präsentiert sich dieses Jahr im Rahmen der Sonderschau mit exclusiven Exponaten und einem interessanten Vortrag mit PLM zur additiven Fertigung. \nVortrag: Freitag\, 8. Februar\, 11.00 – 11.20 Uhr – “Ganzheitliche\, PLM-basierte Planung für die additive-hybride Fertigung” – Alexander Hoffmann \nWir freuen uns auf Ihren Besuch. Gern vereinbaren wir einen Gesprächstermin am Infostand.
URL:https://www.arcsolutions.de/event/intec-2019-sonderschau-additiv-hybrid-neue-fertigungstechnologien-im-einsatz/
LOCATION:Leipziger Messe GmbH\, Messe-Allee 1\, Leipzig\, 04356
END:VEVENT
END:VCALENDAR