BEGIN:VCALENDAR
VERSION:2.0
PRODID:-//ARC Solutions GmbH - ECPv6.15.20//NONSGML v1.0//EN
CALSCALE:GREGORIAN
METHOD:PUBLISH
X-ORIGINAL-URL:https://www.arcsolutions.de
X-WR-CALDESC:Veranstaltungen für ARC Solutions GmbH
REFRESH-INTERVAL;VALUE=DURATION:PT1H
X-Robots-Tag:noindex
X-PUBLISHED-TTL:PT1H
BEGIN:VTIMEZONE
TZID:UTC
BEGIN:STANDARD
TZOFFSETFROM:+0000
TZOFFSETTO:+0000
TZNAME:UTC
DTSTART:20180101T000000
END:STANDARD
END:VTIMEZONE
BEGIN:VEVENT
DTSTART;TZID=UTC:20190123T130000
DTEND;TZID=UTC:20190123T170000
DTSTAMP:20260423T111636
CREATED:20190117T120522Z
LAST-MODIFIED:20190117T120522Z
UID:569-1548248400-1548262800@www.arcsolutions.de
SUMMARY:Science meets Industry
DESCRIPTION:Am 23. Januar 2019 lädt Silicon Saxony Wissenschaftler und Industriepartner in die Räumlichkeiten des Fraunhofer-Instituts für Werkzeugmaschinen und Umformtechnik IWU auf der Reichenhainer Str. 88 in Chemnitz ein. Nach einem erfolgreichen Start im März 2018 wollen wir nun erneut Wissenschaft und Industrie unter dem Motto „Science meets Industry“ zusammenbringen. \nGemeinsam mit den beiden Gastgebern\, dem Fraunhofer-Institut für Werkzeugmaschinen und Umformtechnik IWU und dem Fraunhofer-Institut für Elektronische Nanosysteme ENAS organisieren wir für Sie ein spannendes Programm mit abwechslungsreichen Formaten. Es erwarten Sie eine interessante Keynote zu Künstlicher Intelligenz\, Führungen durch die beiden Gastgerber-Institute Fraunhofer IWU und ENAS\, zwei Workshops sowie als Highlight unsere Pitch- & Demo-Session\, bei der talentierte Wissenschaftler und Industrievertreter nur wenige Minuten Zeit haben\, um Sie mit ihren (Forschungs-) Projekten zu begeistern. \nARC Solutions ist mit einem Pitch in der Session “Neuwertige Softwareanwendungen” mit dem Thema “diogital Twining in Manufacturing” dabei. Die aktuelle Agenda finden sie hier. \nIm Anschluss können Sie mit uns in der Ausstellungsfläche ins Gespräch kommen und netzwerken. \nSeien Sie dabei und nutzen Sie die Gelegenheit\, neue Kontakte zu knüpfen und einen Überblick über neueste wissenschaftliche Forschungen und Technologie-Entwicklungen zu erhalten.
URL:https://www.arcsolutions.de/event/science-meets-industry/
LOCATION:Fraunhofer-Institut für Werkzeugmaschinen und Umformtechnik IWU\, Reichenhainer Str. 88\, Chemnitz\, 09126
END:VEVENT
END:VCALENDAR